BEGIN:VCALENDAR
VERSION:2.0
PRODID:-//eventon.com NONSGML v1.0//EN
CALSCALE:GREGORIAN
METHOD:PUBLISH
BEGIN:VEVENT
UID:69e7d0aeb7eee
DTSTAMP:20260421T193158Z
DTSTART:20220317
DTEND:20220318
LOCATION:Maison de la coopération t de l'alimentation à Narbonne ZAC Bonne source - 22 rue Ernest Cognacq - 11105 NARBONNE
SUMMARY:Emballages biosourcés et compostables\,  où en sommes nous ?
DESCRIPTION:Le Jeudi 17 mars 2022 : de 9h à 12h30 &#8211; Définition\,  a
 ides\,  différents emballages\,  innovations Le Jeudi 17 mars 2022 : de 14
 h à 17h &#8211; Rencontres BtoB avec des offreurs de solutions régionaux 
 (Pour les personnes qui ne pourraient pas se déplacer\,  nous offrirons la
  possibilité de suivre[..]\nhttps://lecontratagroalimentaireoccitanie.fr/e
 vents/emballages-biosources-et-compostables-ou-en-sommes-nous/
URL:https://lecontratagroalimentaireoccitanie.fr/events/emballages-biosources-et-compostables-ou-en-sommes-nous/
END:VEVENT
END:VCALENDAR