BEGIN:VCALENDAR
VERSION:2.0
PRODID:-//eventon.com NONSGML v1.0//EN
CALSCALE:GREGORIAN
METHOD:PUBLISH
BEGIN:VEVENT
UID:69e88550380b8
DTSTAMP:20260422T082240Z
DTSTART:20220909T004500Z
DTEND:20220909T013000Z
LOCATION:
SUMMARY:Paus'RH. Echangez entre pairs sur vos problématiques RH ! ( en visio)
DESCRIPTION:En visio inscription : https://docs.google.com/forms/d/e/1FAIpQ
 LScIehIIN832p3l_kopBzO0uwnLq2AEqfjhkVylRDf-__-qzCQ/viewform\nhttps://lecont
 ratagroalimentaireoccitanie.fr/events/pausrh-echangez-entre-pairs-sur-vos-p
 roblematiques-rh-en-visio-2/
URL:https://lecontratagroalimentaireoccitanie.fr/events/pausrh-echangez-entre-pairs-sur-vos-problematiques-rh-en-visio-2/
END:VEVENT
END:VCALENDAR